BEGIN:VCALENDAR
VERSION:2.0
PRODID:-//ChamberMaster//Event Calendar 2.0//EN
METHOD:PUBLISH
X-PUBLISHED-TTL:P1H
REFRESH-INTERVAL:P1H
CALSCALE:GREGORIAN
BEGIN:VTIMEZONE
TZID:America/New_York
BEGIN:DAYLIGHT
RRULE:FREQ=YEARLY;BYMONTH=3;BYDAY=2SU
DTSTART:20070101T000000
TZOFFSETFROM:-0500
TZOFFSETTO:-0400
TZNAME:Eastern Daylight Time
END:DAYLIGHT
BEGIN:STANDARD
RRULE:FREQ=YEARLY;BYMONTH=11;BYDAY=1SU
DTSTART:20070101T000000
TZOFFSETFROM:-0400
TZOFFSETTO:-0500
TZNAME:Eastern Standard Time
END:STANDARD
END:VTIMEZONE
BEGIN:VEVENT
DTSTART;VALUE=DATE:20260604
DTEND;VALUE=DATE:20260605
TRANSP:TRANSPARENT
X-MICROSOFT-CDO-ALLDAYEVENT:TRUE
SUMMARY:Kickball & Afterparty
DESCRIPTION:Join us for this year's Annual Kickball Tournament and YPN after-party at City View Park\, all at the same location! Unwind with freshly grilled bites and test your skills in competitive yard games as you celebrate after the match.  Waiver of liability required for kickball and yard game participation.  Hello Affiliates!    As we did last year\, we're approaching this year's match with some important criteria. Everyone is welcome to attend\, cheer and enjoy the after-party. If your desire is to play on the Affiliates Team\, it is important to note the following.   We will cap registrations at 40 ppl  Once registration is complete\, we'll be holding 2 separate tryout practices\, registrants will be contacted with details. Attendance at one of these practices is mandatory in order to play on the team. Players are encouraged to make both practices to get to know and play w/ one another so that we show up on game day working together as a team. To increase manageability on game day\, we'll be fielding a team of no more than 25 ppl. Not everyone who attends a tryout practice will make the team. Thanks\, and let's win our right to hold the trophy for another year! Hello  REALTORS !  Your captain will be in touch with you shortly with further information.
X-ALT-DESC;FMTTYPE=text/html:<!DOCTYPE html><html><head><title></title></head><body aria-disabled="false"><p><span style="color: rgb(118\, 118\, 118)\; font-family: Roboto\, sans-serif\; font-size: 12px\; font-style: normal\; font-variant-ligatures: normal\; font-variant-caps: normal\; font-weight: 400\; letter-spacing: 0.5px\; orphans: 2\; text-align: start\; text-indent: 0px\; text-transform: none\; widows: 2\; word-spacing: 0px\; -webkit-text-stroke-width: 0px\; white-space: normal\; background-color: rgb(255\, 255\, 255)\; text-decoration-thickness: initial\; text-decoration-style: initial\; text-decoration-color: initial\; display: inline !important\; float: none\;">Join us for this year&rsquo\;s Annual Kickball Tournament and YPN after-party at City View Park\, all at the same location! Unwind with freshly grilled bites and test your skills in competitive yard games as you celebrate after the match. &nbsp\;Waiver of liability required for kickball and yard game participation. &nbsp\;Hello Affiliates! &nbsp\; &nbsp\;As we did last year\, we&rsquo\;re approaching this year&rsquo\;s match with some important criteria. Everyone is welcome to attend\, cheer and enjoy the after-party. If your desire is to play on the Affiliates Team\, it is important to note the following. &nbsp\; We will cap registrations at 40 ppl &nbsp\;Once registration is complete\, we&rsquo\;ll be holding 2 separate tryout practices\, registrants will be contacted with details. Attendance at one of these practices is mandatory in order to play on the team. Players are encouraged to make both practices to get to know and play w/ one another so that we show up on game day working together as a team. To increase manageability on game day\, we&rsquo\;ll be fielding a team of no more than 25 ppl. Not everyone who attends a tryout practice will make the team. Thanks\, and let&rsquo\;s win our right to hold the trophy for another year! Hello &nbsp\;REALTORS&reg\;! &nbsp\;Your captain will be in touch with you shortly with further information.</span> </p><div style="font-size: 17.3333px\; line-height: 1.15\; direction: ltr\; letter-spacing: -0.063em\; text-transform: none\; text-align: left\;"><br></div></body></html>
LOCATION:638 Independence Pkwy Suite 100 Chesapeake VA 23320
UID:e.3480.1345447
SEQUENCE:3
DTSTAMP:20260423T170814Z
URL:https://members.hrra.com/alpha-calendar/Details/kickball-afterparty-1581623?sourceTypeId=Hub
END:VEVENT
END:VCALENDAR
