BEGIN:VCALENDAR
VERSION:2.0
PRODID:-//ChamberMaster//Event Calendar 2.0//EN
METHOD:PUBLISH
X-PUBLISHED-TTL:P1H
REFRESH-INTERVAL:P1H
CALSCALE:GREGORIAN
BEGIN:VTIMEZONE
TZID:America/New_York
BEGIN:DAYLIGHT
RRULE:FREQ=YEARLY;BYMONTH=3;BYDAY=2SU
DTSTART:20070101T000000
TZOFFSETFROM:-0500
TZOFFSETTO:-0400
TZNAME:Eastern Daylight Time
END:DAYLIGHT
BEGIN:STANDARD
RRULE:FREQ=YEARLY;BYMONTH=11;BYDAY=1SU
DTSTART:20070101T000000
TZOFFSETFROM:-0400
TZOFFSETTO:-0500
TZNAME:Eastern Standard Time
END:STANDARD
END:VTIMEZONE
BEGIN:VEVENT
DTSTART;TZID=America/New_York:20260528T090000
DTEND;TZID=America/New_York:20260528T120000
X-MICROSOFT-CDO-ALLDAYEVENT:FALSE
SUMMARY:Perfect Home With Renovating Lending
DESCRIPTION:This course equips real estate professionals with a practical\, working knowledge of residential renovation financing\, including FHA 203k\, HomeStyle®\, VA\, and USDA renovation loans. Participants learn how to turn “as is” and dated properties into viable opportunities by combining purchase and renovation into a single loan. By mastering renovation lending\, agents can better serve buyers\, close more transactions\, and stand out as value added professionals in a competitive market.
X-ALT-DESC;FMTTYPE=text/html:This course equips real estate professionals with a practical\, working knowledge of residential renovation financing\, including FHA 203k\, HomeStyle®\, VA\, and USDA renovation loans. Participants learn how to turn “as is” and dated properties into viable opportunities by combining purchase and renovation into a single loan. By mastering renovation lending\, agents can better serve buyers\, close more transactions\, and stand out as value added professionals in a competitive market.
LOCATION:638 Independence Pkwy 100 Chesapeake 23320
UID:e.3480.1417407
SEQUENCE:3
DTSTAMP:20260419T152903Z
URL:https://members.hrra.com/alpha-calendar/Details/perfect-home-with-renovating-lending-1675416?sourceTypeId=Hub
END:VEVENT
END:VCALENDAR
