BEGIN:VCALENDAR
VERSION:2.0
PRODID:-//ChamberMaster//Event Calendar 2.0//EN
METHOD:PUBLISH
X-PUBLISHED-TTL:P1H
REFRESH-INTERVAL:P1H
CALSCALE:GREGORIAN
BEGIN:VTIMEZONE
TZID:America/New_York
BEGIN:DAYLIGHT
RRULE:FREQ=YEARLY;BYMONTH=3;BYDAY=2SU
DTSTART:20070101T000000
TZOFFSETFROM:-0500
TZOFFSETTO:-0400
TZNAME:Eastern Daylight Time
END:DAYLIGHT
BEGIN:STANDARD
RRULE:FREQ=YEARLY;BYMONTH=11;BYDAY=1SU
DTSTART:20070101T000000
TZOFFSETFROM:-0400
TZOFFSETTO:-0500
TZNAME:Eastern Standard Time
END:STANDARD
END:VTIMEZONE
BEGIN:VEVENT
DTSTART;TZID=America/New_York:20260514T100000
DTEND;TZID=America/New_York:20260514T110000
X-MICROSOFT-CDO-ALLDAYEVENT:FALSE
SUMMARY:VPAR Town Hall
DESCRIPTION:Town Hall to be held at the VPAR Office. Join leadership from HRRA and VPAR for an in‑person Town Hall as we share more insight into the proposed merger and what it means for our members.These sessions are designed to:answer questionsexplain the processprovide clarity before the final membership vote later this summer
X-ALT-DESC;FMTTYPE=text/html:<!DOCTYPE html><html><head><title></title></head><body aria-disabled="false"><p>Town Hall to be held at the VPAR Office.&nbsp\;</p><div style="font-size: 22.6667px\; line-height: 1.17\; direction: ltr\; letter-spacing: 0em\; text-transform: none\; text-align: left\;"><p><span style="font-weight: 400\; font-style: normal\; color: #021ca6\;">J</span><span style="font-weight: 400\; font-style: normal\; color: #021ca6\;">oin leadership from HRRA and VPAR for an in‑person Town Hall as we share more insight into the proposed merger and what it means for our members.</span></p></div><div style="font-size: 22.6667px\; line-height: 1.17\; direction: ltr\; letter-spacing: 0em\; text-transform: none\; text-align: left\;"><p><span style="font-weight: 400\; font-style: normal\; color: #021ca6\;">These sessions are designed to:</span></p></div><ul fr-original-style="font-size: 22.6667px\; line-height: 1.17\; direction: ltr\; letter-spacing: 0em\; text-transform: none\; text-align: left\;" style="font-size: 22.6667px\; line-height: 1.17\; direction: ltr\; letter-spacing: 0em\; text-transform: none\; text-align: left\; list-style-position: inside\;"><li style="list-style: disc\;"><span style="font-weight: 400\; font-style: normal\; color: #021ca6\;">answer questions</span></li><li style="list-style: disc\;"><span style="font-weight: 400\; font-style: normal\; color: #021ca6\;">explain the process</span></li><li style="list-style: disc\;"><span style="font-weight: 400\; font-style: normal\; color: #021ca6\;">provide clarity before the final membership vote later this summer</span></li></ul></body></html>
LOCATION:1001 North Campus Parkway Suite 101 Hampton 23666
UID:e.3480.1442281
SEQUENCE:3
DTSTAMP:20260423T170752Z
URL:https://members.hrra.com/alpha-calendar/Details/vpar-town-hall-1708167?sourceTypeId=Hub
END:VEVENT
END:VCALENDAR
